BEGIN:VCALENDAR
VERSION:2.0
PRODID:-//Geschichtsverein Grevenbroich - ECPv5.0.3.1//NONSGML v1.0//EN
CALSCALE:GREGORIAN
METHOD:PUBLISH
X-WR-CALNAME:Geschichtsverein Grevenbroich
X-ORIGINAL-URL:http://s139425345.online.de
X-WR-CALDESC:Veranstaltungen im Geschichtsverein Grevenbroich
BEGIN:VTIMEZONE
TZID:Europe/Berlin
BEGIN:DAYLIGHT
TZOFFSETFROM:+0100
TZOFFSETTO:+0200
TZNAME:CEST
DTSTART:20260329T010000
END:DAYLIGHT
BEGIN:STANDARD
TZOFFSETFROM:+0200
TZOFFSETTO:+0100
TZNAME:CET
DTSTART:20261025T010000
END:STANDARD
END:VTIMEZONE
BEGIN:VEVENT
DTSTART;TZID=Europe/Berlin:20260806T100000
DTEND;TZID=Europe/Berlin:20260806T140000
DTSTAMP:20260419T160550
CREATED:20220829T130938Z
LAST-MODIFIED:20251209T183844Z
UID:2164-1786010400-1786024800@s139425345.online.de
SUMMARY:Familiengenealogische Sprechstunde im Stadtarchiv Grevenbroich
DESCRIPTION: \nWir bitten um vorherige Anmeldung mit Terminwunsch per Mail an: familienforschung-grevenbroich@t-online.de \nSie haben Fragen zur Recherche ihrer Familiengeschichte? Wie finde ich den Zugang zu Dokumenten? Der Arbeitskreis Familienforschung bietet in der offenen Sprechstunde jeden ersten Donnerstag im Monat Tipps und Hilfestellungen an. \n
URL:http://s139425345.online.de/veranstaltungen/2164
LOCATION:Stadtarchiv Grevenbroich\, Stadtparkinsel\, Grevenbroich\, 41515\, Deutschland
END:VEVENT
END:VCALENDAR