BEGIN:VCALENDAR
VERSION:2.0
PRODID:-//Geschichtsverein Grevenbroich - ECPv5.0.3.1//NONSGML v1.0//EN
CALSCALE:GREGORIAN
METHOD:PUBLISH
X-WR-CALNAME:Geschichtsverein Grevenbroich
X-ORIGINAL-URL:http://s139425345.online.de
X-WR-CALDESC:Veranstaltungen im Geschichtsverein Grevenbroich
BEGIN:VTIMEZONE
TZID:Europe/Berlin
BEGIN:DAYLIGHT
TZOFFSETFROM:+0100
TZOFFSETTO:+0200
TZNAME:CEST
DTSTART:20260329T010000
END:DAYLIGHT
BEGIN:STANDARD
TZOFFSETFROM:+0200
TZOFFSETTO:+0100
TZNAME:CET
DTSTART:20261025T010000
END:STANDARD
END:VTIMEZONE
BEGIN:VEVENT
DTSTART;TZID=Europe/Berlin:20261001T100000
DTEND;TZID=Europe/Berlin:20261001T140000
DTSTAMP:20260419T173524
CREATED:20200115T153944Z
LAST-MODIFIED:20251209T183443Z
UID:369-1790848800-1790863200@s139425345.online.de
SUMMARY:Familiengenealogische Sprechstunde im Stadtarchiv Grevenbroich
DESCRIPTION:Wir bitten um vorherige Anmeldung mit Terminwunsch per Mail an: familienforschung-grevenbroich@t-online.de \nDer Arbeitskreis Familienforschung lädt zur familiengenealogischen Sprechstunde im Stadtarchiv auf der Stadtparkinsel in der Zeit von 10-14 Uhr  im Stadtarchiv ein. \nDas Gedächtnis der Familie \nhier: Familienchroniken \nDie Ahnenforschung kann vielmehr als nur die Sammlung von Namen und Daten sein. Durch das Beifügen von Bildern\, Geschichten\, Anekdoten und vielen weiteren Unterlagen bildet sie das Gedächtnis der Familie. \nOft geraten viele Ereignisse\, Geschichten und zum Teil die Personen selbst bereits nach zwei Generationen in Vergessenheit. Dieses Wissen über die Familie ist dann für immer unwiederholbar verloren. \nIn unseren monatlichen Sprechstunden bieten wir neben Recherchehilfen in Standesamtsregistern und Kirchenbüchern auch die Möglichkeit\, sich z. B. über die Ahnenforschung allgemein oder das Schreiben einer Familienchronik zu informieren. \n \n
URL:http://s139425345.online.de/veranstaltungen/familiengenealogische-sprechstunde-familienchroniken
LOCATION:Stadtarchiv Grevenbroich\, Stadtparkinsel\, Grevenbroich\, 41515\, Deutschland
ATTACH;FMTTYPE=image/jpeg:http://s139425345.online.de/wp-content/uploads/2021/11/IMG_2717_FB-scaled.jpg
END:VEVENT
END:VCALENDAR