BEGIN:VCALENDAR
VERSION:2.0
PRODID:-//Geschichtsverein Grevenbroich - ECPv5.0.3.1//NONSGML v1.0//EN
CALSCALE:GREGORIAN
METHOD:PUBLISH
X-WR-CALNAME:Geschichtsverein Grevenbroich
X-ORIGINAL-URL:http://s139425345.online.de
X-WR-CALDESC:Veranstaltungen im Geschichtsverein Grevenbroich
BEGIN:VTIMEZONE
TZID:Europe/Berlin
BEGIN:DAYLIGHT
TZOFFSETFROM:+0100
TZOFFSETTO:+0200
TZNAME:CEST
DTSTART:20260329T010000
END:DAYLIGHT
BEGIN:STANDARD
TZOFFSETFROM:+0200
TZOFFSETTO:+0100
TZNAME:CET
DTSTART:20261025T010000
END:STANDARD
END:VTIMEZONE
BEGIN:VEVENT
DTSTART;TZID=Europe/Berlin:20261008T180000
DTEND;TZID=Europe/Berlin:20261008T193000
DTSTAMP:20260419T192026
CREATED:20260227T130739Z
LAST-MODIFIED:20260227T131730Z
UID:4614-1791482400-1791487800@s139425345.online.de
SUMMARY:Grevenbroicher Geschäftswelt in früheren Zeiten - Stadtführung mit Anja Heling
DESCRIPTION:Stadtführerin Anja Heling hat eine neue Führung zusammengestellt. \nEs geht durch die Grevenbroicher Innenstadt und Einkaufszone zu Geschichte und Geschichten rund um die alte Grevenbroicher Geschäftswelt… \nTreffpunkt Bahnhofvorplatz \n
URL:http://s139425345.online.de/veranstaltungen/grevenbroicher-geschaeftswelt-in-frueheren-zeiten-stadtfuehrung-mit-anja-heling
LOCATION:Bahnhofsvorplatz\, Bahnhofsvorplatz\, Grevenbroich\, 41515
ATTACH;FMTTYPE=image/jpeg:http://s139425345.online.de/wp-content/uploads/2025/12/01-0557_c_b.jpg
END:VEVENT
END:VCALENDAR