BEGIN:VCALENDAR
VERSION:2.0
PRODID:-//Geschichtsverein Grevenbroich - ECPv5.0.3.1//NONSGML v1.0//EN
CALSCALE:GREGORIAN
METHOD:PUBLISH
X-WR-CALNAME:Geschichtsverein Grevenbroich
X-ORIGINAL-URL:http://s139425345.online.de
X-WR-CALDESC:Veranstaltungen im Geschichtsverein Grevenbroich
BEGIN:VTIMEZONE
TZID:Europe/Berlin
BEGIN:DAYLIGHT
TZOFFSETFROM:+0100
TZOFFSETTO:+0200
TZNAME:CEST
DTSTART:20260329T010000
END:DAYLIGHT
BEGIN:STANDARD
TZOFFSETFROM:+0200
TZOFFSETTO:+0100
TZNAME:CET
DTSTART:20261025T010000
END:STANDARD
END:VTIMEZONE
BEGIN:VEVENT
DTSTART;TZID=Europe/Berlin:20261113T153000
DTEND;TZID=Europe/Berlin:20261113T170000
DTSTAMP:20260419T205450
CREATED:20260227T221705Z
LAST-MODIFIED:20260227T221705Z
UID:4634-1794583800-1794589200@s139425345.online.de
SUMMARY:Montanus ein Natur-Denkmal setzen!
DESCRIPTION:Vinzenz von Zuccalmaglio – genannt “Montanus” (Schlebusch 26. Mai 1806- 21. November 1876 Grevenbroich). \nZum 150. Todestag wollen wir ihn würdig gedenken… \nMontanus war über die Grenzen der Stadt Grevenbroich hinaus bekannten Altkatholiken\, Notars\, Publizisten\, Sängerfreundes\, zeitweise Präsident der Bürgerschützen\, “Kulturkämpfers” und Herausgeber der Grevenbroicher Zeitung und des von ihm in Grevenbroich herausgegebenen und gedrucktem „Nationalen Wochenblattes“. \nschon kurz nach seinem Tod fanden sich überall im Rheinland Menschen und Institutionen\, um Montanus ein Denkmal zu setzen\, das unmittelbar an seinem Wohnhaus auf der Lindenstraße 1 errichtet wurde. \nEingeladen zur Kooperationsind Stadt\, interessierte Vereine\, Initiativen und Bürgerinnen und Bürger\, um im 220. Geburtstag- und  150. Todesjahr Montanus zu würdigen! \nVorbereitungstreffen 15. April 2026 – 18.00 Uhr – Stadtarchiv/Bücherei Stadtparkinsel! \n
URL:http://s139425345.online.de/veranstaltungen/montanus-ein-natur-denkmal-setzen
ATTACH;FMTTYPE=image/jpeg:http://s139425345.online.de/wp-content/uploads/2026/02/IMG_1817-scaled.jpeg
END:VEVENT
END:VCALENDAR