BEGIN:VCALENDAR
VERSION:2.0
PRODID:-//Geschichtsverein Grevenbroich - ECPv5.0.3.1//NONSGML v1.0//EN
CALSCALE:GREGORIAN
METHOD:PUBLISH
X-WR-CALNAME:Geschichtsverein Grevenbroich
X-ORIGINAL-URL:http://s139425345.online.de
X-WR-CALDESC:Veranstaltungen im Geschichtsverein Grevenbroich
BEGIN:VTIMEZONE
TZID:Europe/Berlin
BEGIN:DAYLIGHT
TZOFFSETFROM:+0100
TZOFFSETTO:+0200
TZNAME:CEST
DTSTART:20250330T010000
END:DAYLIGHT
BEGIN:STANDARD
TZOFFSETFROM:+0200
TZOFFSETTO:+0100
TZNAME:CET
DTSTART:20251026T010000
END:STANDARD
END:VTIMEZONE
BEGIN:VEVENT
DTSTART;TZID=Europe/Berlin:20250821T180000
DTEND;TZID=Europe/Berlin:20250821T203000
DTSTAMP:20260419T145847
CREATED:20250819T183402Z
LAST-MODIFIED:20250819T184359Z
UID:4348-1755799200-1755808200@s139425345.online.de
SUMMARY:30 Jahre Landesgartenschau
DESCRIPTION:Führung durch den Erckenspark und Apfelwiese ab 18.00 Uhr\, im Anschluss daran Vortrag im Museum von und mit Stadtdirektor a.D. Heiner Küpper ab 19.00 Uhr. \nIn dessen Amtszeit fiel die Vorbereitung und Realisierung der Grevenbroicher Landesgartenschau 1995 fiel. Küpper war einer seiner Motoren\, legte und legt bis heute Wert auf die städtebauliche Innenstadt-Gestaltung im Zuge der Gartenschau\, die bis heute die City Grevenbroichs prägt! \nDer Eintritt ist für Geschichtsvereinsmitglieder frei! \n62da254fa63c4d18b4331311845e653a \n
URL:http://s139425345.online.de/veranstaltungen/30-jahre-landesgartenschau
LOCATION:Museum Villa Erckens\, Am Stadtpark\, Grevenbroich\, NRW\, 41515
ATTACH;FMTTYPE=image/jpeg:http://s139425345.online.de/wp-content/uploads/2025/08/IMG_0439.jpeg
END:VEVENT
END:VCALENDAR