BEGIN:VCALENDAR
VERSION:2.0
PRODID:-//Geschichtsverein Grevenbroich - ECPv5.0.3.1//NONSGML v1.0//EN
CALSCALE:GREGORIAN
METHOD:PUBLISH
X-WR-CALNAME:Geschichtsverein Grevenbroich
X-ORIGINAL-URL:http://s139425345.online.de
X-WR-CALDESC:Veranstaltungen im Geschichtsverein Grevenbroich
BEGIN:VTIMEZONE
TZID:Europe/Berlin
BEGIN:DAYLIGHT
TZOFFSETFROM:+0100
TZOFFSETTO:+0200
TZNAME:CEST
DTSTART:20240331T010000
END:DAYLIGHT
BEGIN:STANDARD
TZOFFSETFROM:+0200
TZOFFSETTO:+0100
TZNAME:CET
DTSTART:20241027T010000
END:STANDARD
END:VTIMEZONE
BEGIN:VEVENT
DTSTART;TZID=Europe/Berlin:20240908T110000
DTEND;TZID=Europe/Berlin:20240908T123000
DTSTAMP:20260421T035034
CREATED:20240902T110335Z
LAST-MODIFIED:20240902T110516Z
UID:4002-1725793200-1725798600@s139425345.online.de
SUMMARY:Wanderung zu Relikten aus der Zeit des Zweiten Weltkrieges
DESCRIPTION:Am diesjährigen Tag des offenen Denkmals\, werden wir euch wieder gemeinsam mit dem Verein “Luftschutzanlagen Rhein Kreis Neuss e. V.” zu verschiedenen Relikten aus der Zeit des Zweiten Weltkrieges in der Umgebung des Moerser Topfes in der Rosenstraße führen. \nDie Wanderung und die anschließende Begehung der Luftschutzanlage werden ungefähr 90 Minuten dauern und nach 1\,5 Kilometern am Moerser Topf beginnen und enden. \nDer Bunker befindet sich auf der Grünfläche in der Rosenstraße und wir gehen um 11:00 Uhr los. \nBitte parken Sie aus Rücksicht auf die Anwohner auf der Richard-Wagner-Straße oder nutzen Sie öffentliche Verkehrsmittel für die Anreise. \nWir empfehlen eine Anmeldung unter https://www.luftschutzanlagen-rhein-kreis-neuss.de/kontakt/ \nMehr Informationen über diesen besonderen Rundbunker sind auch auf der Homepage unter https://www.luftschutzanlagen-rhein-kreis-neuss.de/… zu finden. \n  \n
URL:http://s139425345.online.de/veranstaltungen/4002
LOCATION:Rosenstraße\, 41515 Grevenbroich\, Rosenstraße 501\, Grevenbroich\, 41515
ATTACH;FMTTYPE=image/jpeg:http://s139425345.online.de/wp-content/uploads/2024/09/WhatsApp-Bild-2024-09-01-um-12.54.50_b565ea9a.jpg
END:VEVENT
END:VCALENDAR