BEGIN:VCALENDAR
VERSION:2.0
PRODID:-//Geschichtsverein Grevenbroich - ECPv5.0.3.1//NONSGML v1.0//EN
CALSCALE:GREGORIAN
METHOD:PUBLISH
X-WR-CALNAME:Geschichtsverein Grevenbroich
X-ORIGINAL-URL:http://s139425345.online.de
X-WR-CALDESC:Veranstaltungen im Geschichtsverein Grevenbroich
BEGIN:VTIMEZONE
TZID:Europe/Berlin
BEGIN:DAYLIGHT
TZOFFSETFROM:+0100
TZOFFSETTO:+0200
TZNAME:CEST
DTSTART:20260329T010000
END:DAYLIGHT
BEGIN:STANDARD
TZOFFSETFROM:+0200
TZOFFSETTO:+0100
TZNAME:CET
DTSTART:20261025T010000
END:STANDARD
END:VTIMEZONE
BEGIN:VEVENT
DTSTART;TZID=Europe/Berlin:20260718T110000
DTEND;TZID=Europe/Berlin:20260718T123000
DTSTAMP:20260419T123044
CREATED:20260205T154218Z
LAST-MODIFIED:20260227T121818Z
UID:4555-1784372400-1784377800@s139425345.online.de
SUMMARY:Exkursion Obstbaumwanderweg - Biologische Station Knechtsteden
DESCRIPTION:Kernstück des Obst-Wanderweges der Biologischen Station Neuss ist der Obstsortengarten Kloster Knechtsteden. In einem kleinen Rundgang von 1\,6 km Länge begegnen Sie einer Vielfalt von Obstsorten\, Sie lernen bedeutende Obstzüchter kennen\, erhalten Einblicke in den Obstbau an Klöstern und erfahren etwas über Tierarten\, die vom Naturschutz auf Obstwiesen profitieren. \nDie Führung übernimmt Rolf Behrens\, Vorsitzender des BUND Grevenbroich und stv. Vorstand des Vereins der Biologischen Station.  \nBei den bis zu 8\,1 km langen Waldrunden können  Sie den Knechtstedener Busch\, ein Waldgebiet von europaweiter Bedeutung\, durchwandern. Die Routen führen zu verschiedenen Obstwiesen und einer Allee aus 36 Dycker Schmalzbirnen. \nDamit die Besucher der Obstwiesen mit allen Sinnen erleben können\, wurde zusätzlich eine Audio-Guide App entwickelt. Die App “Obstsortengarten Knechtsteden” führt die Besucher entlang der Obstwiesen über das gesamte Klostergelände. \nAm Wanderweg bestehen mit dem Klosterhof und Haus Hubertus Einkehrmöglichkeiten. Im Klosterladen sind Obstprodukte erhältlich. \nFoto: Biologische Station  \n
URL:http://s139425345.online.de/veranstaltungen/4555
LOCATION:Biologische Station Neuss – Knechtsteden\, Knechtsteden 13\, Dormagen\, 41540
ATTACH;FMTTYPE=image/jpeg:http://s139425345.online.de/wp-content/uploads/2026/02/Obst-Wanderweg-Knechtsteden.jpg
END:VEVENT
END:VCALENDAR