BEGIN:VCALENDAR
VERSION:2.0
PRODID:-//Geschichtsverein Grevenbroich - ECPv5.0.3.1//NONSGML v1.0//EN
CALSCALE:GREGORIAN
METHOD:PUBLISH
X-WR-CALNAME:Geschichtsverein Grevenbroich
X-ORIGINAL-URL:http://s139425345.online.de
X-WR-CALDESC:Veranstaltungen im Geschichtsverein Grevenbroich
BEGIN:VTIMEZONE
TZID:Europe/Berlin
BEGIN:DAYLIGHT
TZOFFSETFROM:+0100
TZOFFSETTO:+0200
TZNAME:CEST
DTSTART:20240331T010000
END:DAYLIGHT
BEGIN:STANDARD
TZOFFSETFROM:+0200
TZOFFSETTO:+0100
TZNAME:CET
DTSTART:20241027T010000
END:STANDARD
END:VTIMEZONE
BEGIN:VEVENT
DTSTART;TZID=Europe/Berlin:20240622T140000
DTEND;TZID=Europe/Berlin:20240622T170000
DTSTAMP:20260421T001848
CREATED:20240427T114543Z
LAST-MODIFIED:20240427T114543Z
UID:3634-1719064800-1719075600@s139425345.online.de
SUMMARY:50 Jahre Elfgen & Belmen - Infos\, Fotos\, Pläne und Geschichten rund um die Umsiedlung.
DESCRIPTION:50 Jahre Elfgen & Belmen – Infos\, Fotos\, Pläne und Geschichten rund um die Umsiedlung.\n \nEine Veranstaltung in Kooperation vom Geschichtsvereins mit dem Stadtarchiv Grevenbroich und dem Organisationsteam aus Stadtteilakteuren in Elfgen-Belmen!  \nWeniger anzeigen\n\n\n\n \n\n\n
URL:http://s139425345.online.de/veranstaltungen/50-jahre-elfgen-belmen-infos-fotos-plaene-und-geschichten-rund-um-die-umsiedlung
LOCATION:Pfarrkirche St. Georg Elfgen\, An St. Georg\, Grevenbroich-Neu_Elfgen\, NRW\, 41515\, Deutschland
ATTACH;FMTTYPE=image/jpeg:http://s139425345.online.de/wp-content/uploads/2024/04/GKLL1480.jpg
END:VEVENT
END:VCALENDAR