BEGIN:VCALENDAR
VERSION:2.0
PRODID:-//Geschichtsverein Grevenbroich - ECPv5.0.3.1//NONSGML v1.0//EN
CALSCALE:GREGORIAN
METHOD:PUBLISH
X-WR-CALNAME:Geschichtsverein Grevenbroich
X-ORIGINAL-URL:http://s139425345.online.de
X-WR-CALDESC:Veranstaltungen im Geschichtsverein Grevenbroich
BEGIN:VTIMEZONE
TZID:Europe/Berlin
BEGIN:DAYLIGHT
TZOFFSETFROM:+0100
TZOFFSETTO:+0200
TZNAME:CEST
DTSTART:20240331T010000
END:DAYLIGHT
BEGIN:STANDARD
TZOFFSETFROM:+0200
TZOFFSETTO:+0100
TZNAME:CET
DTSTART:20241027T010000
END:STANDARD
END:VTIMEZONE
BEGIN:VEVENT
DTSTART;TZID=Europe/Berlin:20241114T190000
DTEND;TZID=Europe/Berlin:20241114T190000
DTSTAMP:20260421T010701
CREATED:20241007T160608Z
LAST-MODIFIED:20241007T161248Z
UID:4025-1731610800-1731610800@s139425345.online.de
SUMMARY:Bildvortrag Grönland G.m.b.H.
DESCRIPTION:Geplant ist kein klassischer Vortrag\, sondern ein reger Austausch mit den Besuchern. \nNeben allen Interessierten laden wir dazu recht herzlich auch die ehemaligen Mitarbeiter*innen und insbesondere die spanische Community aus Grevenbroich ein\, die uns sicherlich noch viel mehr über die Gegebenheiten bei einem stadtprägenden Unternehmen erzählen können. \nDank Jürgen Larisch und dem Stadtarchiv Grevenbroich konnten mehr als 60 Bilder aus den Produktionsgebäuden\, dem Arbeitsleben\, aus der Umgebung der Fabrik\, aus der Luft etc. zusammengetragen werden. \nWir bitten um eine kurze private Nachricht\, sofern jemand noch interessante Aufnahmen haben sollte\, die ebenfalls gezeigt werden sollen. \n
URL:http://s139425345.online.de/veranstaltungen/bildvortrag-groenland-g-m-b-h
LOCATION:Museum Villa Erckens\, Am Stadtpark\, Grevenbroich\, NRW\, 41515
ATTACH;FMTTYPE=image/jpeg:http://s139425345.online.de/wp-content/uploads/2024/10/0001_Plakat-1.jpg
END:VEVENT
END:VCALENDAR