BEGIN:VCALENDAR
VERSION:2.0
PRODID:-//Geschichtsverein Grevenbroich - ECPv5.0.3.1//NONSGML v1.0//EN
CALSCALE:GREGORIAN
METHOD:PUBLISH
X-WR-CALNAME:Geschichtsverein Grevenbroich
X-ORIGINAL-URL:http://s139425345.online.de
X-WR-CALDESC:Veranstaltungen im Geschichtsverein Grevenbroich
BEGIN:VTIMEZONE
TZID:Europe/Berlin
BEGIN:DAYLIGHT
TZOFFSETFROM:+0100
TZOFFSETTO:+0200
TZNAME:CEST
DTSTART:20240331T010000
END:DAYLIGHT
BEGIN:STANDARD
TZOFFSETFROM:+0200
TZOFFSETTO:+0100
TZNAME:CET
DTSTART:20241027T010000
END:STANDARD
END:VTIMEZONE
BEGIN:VEVENT
DTSTART;TZID=Europe/Berlin:20240321T190000
DTEND;TZID=Europe/Berlin:20240321T210000
DTSTAMP:20260420T145700
CREATED:20240319T145545Z
LAST-MODIFIED:20240319T145545Z
UID:3497-1711047600-1711054800@s139425345.online.de
SUMMARY:Der Elsener Oberpfarrer Konrad Thomas
DESCRIPTION:Beleuchtet wird Leben und Werk des Elsener OberpfarrersKonrad Thomas\, der 1894 bei Er-kelenz das Licht der Welt erblickte\, 1977 in Neuss verstarb und in „seiner“ Pfarre Elsen beer-digt worden ist\, wo er durch die Alliierten nach der „Stunde Null“ 1945 Mai sogar kurzzeitig zum Bürgermeister ernannt wurde. \nUnvergessen bei alteingesessenen Elsenern war sein Auf-tritt nach einer Messe\, als er die Münzen aus dem Klingelbeutel vor den verdutzten Messdie-nern in die Luft warf mit den Worten „Watt ove bliev\, ess vür Kölle“ – so blieb das Geld in Elsen in der heimatlichen Pfarre. \nDieter Schlangen\, ausgewiesener Kenner der Elsener Geschichte und der Biographien der Geistlichkeit der Pfarre St. Stephanus\, stellt das Leben des Oberpfarrers Konrad Thomas vor. \n
URL:http://s139425345.online.de/veranstaltungen/der-elsener-oberpfarrer-konrad-thomas
LOCATION:Museum Villa Erckens\, Am Stadtpark\, Grevenbroich\, NRW\, 41515
ATTACH;FMTTYPE=image/jpeg:http://s139425345.online.de/wp-content/uploads/2024/03/001.2-Thomas.jpg
END:VEVENT
END:VCALENDAR