BEGIN:VCALENDAR
VERSION:2.0
PRODID:-//Geschichtsverein Grevenbroich - ECPv5.0.3.1//NONSGML v1.0//EN
CALSCALE:GREGORIAN
METHOD:PUBLISH
X-WR-CALNAME:Geschichtsverein Grevenbroich
X-ORIGINAL-URL:http://s139425345.online.de
X-WR-CALDESC:Veranstaltungen im Geschichtsverein Grevenbroich
BEGIN:VTIMEZONE
TZID:UTC
BEGIN:STANDARD
TZOFFSETFROM:+0000
TZOFFSETTO:+0000
TZNAME:UTC
DTSTART:20190101T000000
END:STANDARD
END:VTIMEZONE
BEGIN:VEVENT
DTSTART;VALUE=DATE:20191108
DTEND;VALUE=DATE:20191112
DTSTAMP:20260419T153920
CREATED:20190404T131520Z
LAST-MODIFIED:20190404T131609Z
UID:254-1573171200-1573516799@s139425345.online.de
SUMMARY:Erinnerungen an den Novemberpogrom „Reichskristallnacht“
DESCRIPTION:Arbeitskreis Judentum: Erinnerungen an den Novemberpogrom „Reichskristallnacht“ \nLeitung: Ulrich Herlitz \nKooperation mit „KKG gegen das Vergessen“\, Stadt Grevenbroich und anderen Institutionen.\nIm Herbst finden auch wieder Stolpersteinverlegungen mit Gunter Demnig statt. \nGenaue Termin werden noch bekannt gegeben!\nBitte beachten Sie auch die Ankündigungen in der Presse sowie unter\n www.judentum-grevenbroich.de / www.stolpersteine-grevenbroich.de \n
URL:http://s139425345.online.de/veranstaltungen/erinnerungen-an-den-novemberpogrom-reichskristallnacht
LOCATION:Synagogenplatz Grevenbroich\, Synagogenplatz\, Grevenbroich\, 41515
END:VEVENT
END:VCALENDAR