BEGIN:VCALENDAR
VERSION:2.0
PRODID:-//Geschichtsverein Grevenbroich - ECPv5.0.3.1//NONSGML v1.0//EN
CALSCALE:GREGORIAN
METHOD:PUBLISH
X-WR-CALNAME:Geschichtsverein Grevenbroich
X-ORIGINAL-URL:http://s139425345.online.de
X-WR-CALDESC:Veranstaltungen im Geschichtsverein Grevenbroich
BEGIN:VTIMEZONE
TZID:Europe/Berlin
BEGIN:DAYLIGHT
TZOFFSETFROM:+0100
TZOFFSETTO:+0200
TZNAME:CEST
DTSTART:20240331T010000
END:DAYLIGHT
BEGIN:STANDARD
TZOFFSETFROM:+0200
TZOFFSETTO:+0100
TZNAME:CET
DTSTART:20241027T010000
END:STANDARD
END:VTIMEZONE
BEGIN:VEVENT
DTSTART;TZID=Europe/Berlin:20240314T190000
DTEND;TZID=Europe/Berlin:20240314T203000
DTSTAMP:20260420T071822
CREATED:20240202T150801Z
LAST-MODIFIED:20240202T150801Z
UID:3322-1710442800-1710448200@s139425345.online.de
SUMMARY:Familien- und Ahnenforschung für Einsteiger
DESCRIPTION:Am 14. März 2024 von 19.00 Uhr bis 20.30 Uhr bietet die VHS Grevenbroich in Zusammenarbeit mit dem Arbeitskreis Familienforschung im Geschichtsverein Grevenbroich den o. g. Kurs an. \nDer Kurs beinhaltet folgende Themen: \nFamilienforschung – Ahnenforschung – Genealogie\, gibt es Unterschiede? \nWie beginne ich mit der Familienforschung? \nWas wird benötigt? \nWo bekomme ich Hilfe? \nWas kostet mich die Familienforschung? \nUnd vieles mehr… \n  \nDer Kurs findet im Auerbachhaus auf der Stadtparkinsel statt und ist kostenlos. \n  \nAnmeldungen müssen jedoch über folgenden Link erfolgen: \nhttps://www.vhs-grevenbroich.de/kurssuche/kurs/NEU-Familien–und-Ahnenforschung-fuer-Einsteiger/T02021007 \n  \nReferenten: \nHeinz Otto Schnier und Stefan Faßbender \n
URL:http://s139425345.online.de/veranstaltungen/familien-und-ahnenforschung-fuer-einsteiger
LOCATION:Stadtparkinsel Auerbachhaus\, An der Stadtparkinsel\, Grevenbroich\, NRW\, 41515\, Deutschland
ATTACH;FMTTYPE=image/jpeg:http://s139425345.online.de/wp-content/uploads/2020/01/FTM.jpg
END:VEVENT
END:VCALENDAR