BEGIN:VCALENDAR
VERSION:2.0
PRODID:-//Geschichtsverein Grevenbroich - ECPv5.0.3.1//NONSGML v1.0//EN
CALSCALE:GREGORIAN
METHOD:PUBLISH
X-WR-CALNAME:Geschichtsverein Grevenbroich
X-ORIGINAL-URL:http://s139425345.online.de
X-WR-CALDESC:Veranstaltungen im Geschichtsverein Grevenbroich
BEGIN:VTIMEZONE
TZID:UTC
BEGIN:STANDARD
TZOFFSETFROM:+0000
TZOFFSETTO:+0000
TZNAME:UTC
DTSTART:20190101T000000
END:STANDARD
END:VTIMEZONE
BEGIN:VEVENT
DTSTART;TZID=UTC:20191107T100000
DTEND;TZID=UTC:20191107T140000
DTSTAMP:20260419T170957
CREATED:20190404T132918Z
LAST-MODIFIED:20190404T132918Z
UID:273-1573120800-1573135200@s139425345.online.de
SUMMARY:familiengeschichtliche Sprechstunde
DESCRIPTION: \nSie haben Fragen zur Recherche ihrer Familiengeschichte? Wie finde ich den Zugang zu Dokumenten? Der Arbeitskreis Familienforschung bietet in der offenen Sprechstunde jeden ersten Donnerstag im Monat Tipps und Hilfestellungen an. \n
URL:http://s139425345.online.de/veranstaltungen/familiengeschichtliche-sprechstunde-6
LOCATION:Stadtbücherei Grevenbroich\, Stadtparkinsel\, Grevenbroich\, 41515\, Deutschland
END:VEVENT
END:VCALENDAR