BEGIN:VCALENDAR
VERSION:2.0
PRODID:-//Geschichtsverein Grevenbroich - ECPv5.0.3.1//NONSGML v1.0//EN
CALSCALE:GREGORIAN
METHOD:PUBLISH
X-WR-CALNAME:Geschichtsverein Grevenbroich
X-ORIGINAL-URL:http://s139425345.online.de
X-WR-CALDESC:Veranstaltungen im Geschichtsverein Grevenbroich
BEGIN:VTIMEZONE
TZID:Europe/Berlin
BEGIN:DAYLIGHT
TZOFFSETFROM:+0100
TZOFFSETTO:+0200
TZNAME:CEST
DTSTART:20260329T010000
END:DAYLIGHT
BEGIN:STANDARD
TZOFFSETFROM:+0200
TZOFFSETTO:+0100
TZNAME:CET
DTSTART:20261025T010000
END:STANDARD
END:VTIMEZONE
BEGIN:VEVENT
DTSTART;VALUE=DATE:20260918
DTEND;VALUE=DATE:20260919
DTSTAMP:20260419T205743
CREATED:20260227T123833Z
LAST-MODIFIED:20260227T125300Z
UID:4609-1789689600-1789775999@s139425345.online.de
SUMMARY:Fritz-Stern-Tag am Erasmus-Gymnasium Grevenbroich
DESCRIPTION:\n\n\n\n\n\n\n\nFred (Fritz) Stern (Grevenbroich 18.9.1923 – 26.12.20121 Corona del Mar/Ca) besuchte zuletzt 2009 im Rahmen einer Begegnungswoche seine frühere Heimatstadt. \n\n\n\nAls Schüler wurde er 1936 vom Progymnasium (heute Erasmus-Gymnasium Grevenbroich) vertrieben und floh als Auszubildender nach dem Schrecken des Novemberpogroms „ Reichskristallnacht“ mit seinen Eltern in die USA.\n\n\n\n2009 setzte er sich gemeinsam mit Ulrich Herlitz vom Geschichtsverein Grevenbroich vor dem Stadtrat für die Verlegung von Stolpersteinen ein. \nAls Gunter Demnig dann im Dezember 2009 das erste Mal nach Grevenbroich kam\, wurden auch Stolpersteine für seine Großeltern\, Großtante und seinen Onkel verlegt. \n\n\n2012 Fred Stern mit seinen Erinnerungen “Recollections from My Youth”\n\n\n\nNach seinem Tod wurden 2022 Stolpersteine für Fritz Stern und seinen bereits zuvor verstorbenen Bruder Walter vor ihrer ehemaligen Schule verlegt. Die Patenschaft hat das Erasmusgymnasium übernommen.\n\nSeit Fred Sterns Tod im Jahr 2021 veranstaltet das Erasmus-Gymnasium gemeinsam mit dem Geschichtsverein darüber hinaus rund um seinen Geburtstag einen “Fritz-Stern-Tag” an seiner früheren Schule\n\n\n\n\n\n\n\n\n\n \n\n\n\n
URL:http://s139425345.online.de/veranstaltungen/fritz-stern-tag-am-erasmus-gymnasium-grevenbroich
LOCATION:Erasmus-Gymnasium\, Röntgenstraße 10\, Grevenbroich\, NRW\, 41515\, Germany
ATTACH;FMTTYPE=image/jpeg:http://s139425345.online.de/wp-content/uploads/2022/01/2009-former-School-discussion.jpg
END:VEVENT
END:VCALENDAR