BEGIN:VCALENDAR
VERSION:2.0
PRODID:-//Geschichtsverein Grevenbroich - ECPv5.0.3.1//NONSGML v1.0//EN
CALSCALE:GREGORIAN
METHOD:PUBLISH
X-WR-CALNAME:Geschichtsverein Grevenbroich
X-ORIGINAL-URL:http://s139425345.online.de
X-WR-CALDESC:Veranstaltungen im Geschichtsverein Grevenbroich
BEGIN:VTIMEZONE
TZID:Europe/Berlin
BEGIN:DAYLIGHT
TZOFFSETFROM:+0100
TZOFFSETTO:+0200
TZNAME:CEST
DTSTART:20240331T010000
END:DAYLIGHT
BEGIN:STANDARD
TZOFFSETFROM:+0200
TZOFFSETTO:+0100
TZNAME:CET
DTSTART:20241027T010000
END:STANDARD
END:VTIMEZONE
BEGIN:VEVENT
DTSTART;TZID=Europe/Berlin:20240908T110000
DTEND;TZID=Europe/Berlin:20240908T110000
DTSTAMP:20260421T035221
CREATED:20240904T140558Z
LAST-MODIFIED:20240904T140558Z
UID:4006-1725793200-1725793200@s139425345.online.de
SUMMARY:Führung auf dem jüdischen Friedhof Stadtmitte
DESCRIPTION:
URL:http://s139425345.online.de/veranstaltungen/fuehrung-auf-dem-juedischen-friedhof-stadtmitte
LOCATION:Jüdischer Friedhof Grevenbroich\, Jakob-Dickers-Weg 12\, Grevenbroich\, NRW\, 41515\, Deutschland
ATTACH;FMTTYPE=image/jpeg:http://s139425345.online.de/wp-content/uploads/2024/09/Friedhof.jpg
END:VEVENT
END:VCALENDAR