BEGIN:VCALENDAR
VERSION:2.0
PRODID:-//Geschichtsverein Grevenbroich - ECPv5.0.3.1//NONSGML v1.0//EN
CALSCALE:GREGORIAN
METHOD:PUBLISH
X-WR-CALNAME:Geschichtsverein Grevenbroich
X-ORIGINAL-URL:http://s139425345.online.de
X-WR-CALDESC:Veranstaltungen im Geschichtsverein Grevenbroich
BEGIN:VTIMEZONE
TZID:UTC
BEGIN:STANDARD
TZOFFSETFROM:+0000
TZOFFSETTO:+0000
TZNAME:UTC
DTSTART:20210101T000000
END:STANDARD
END:VTIMEZONE
BEGIN:VEVENT
DTSTART;VALUE=DATE:20211104
DTEND;VALUE=DATE:20211112
DTSTAMP:20260421T111148
CREATED:20210107T112019Z
LAST-MODIFIED:20211106T120852Z
UID:1352-1635984000-1636675199@s139425345.online.de
SUMMARY:Gedenk- und Begegnungswoche Nachfahren Katz-Familie
DESCRIPTION:Arbeitskreis Judentum: Erinnerung an den Novemberpogrom „Reichskristallnacht“\nBegegnungswoche mit Nachfahren der Familie Alexander & Elfriede Katz \nLeitung: Ulrich Herlitz \nKooperation mit „KKG gegen das Vergessen“\, Pascal-Gymnasium\, Stadt Grevenbroich und anderen Institutionen. \nangedachtes Programm \nDonnerstag // 4. November 2021\nMenorah-Abend: Lieselotte Katz\nMusste leider pandemiebedingt abgesagt werden! \nKooperation mit dem Pascal-Gymnasium. Das Tagebuch der Grevenbroicherin Lieselotte Katz\, welches Lieselotte zu ihrem 16. Geburtstag Ende Januar 1933 geschenkt bekommen hatte\, wird in musikalischen sowie szenischen Darstellungen vorgestellt wie das Schicksal ihrer Familie. \nPascal-Gymnasium\, Schwarzer Weg\, 19.30 Uhr \n  \nFreitag // 5. November 2020\nStolpersteinführung Bahnhofsviertel Familie Katz\nTreffpunkt 18.00 Bahnhofsvorplatz \nSonntag // 7. November 2020\nEröffnung der Ausstellung „Joan Noble/London – Collagen“\nMusste leider pandemiebedingt abgesagt werden!\nDie in London lebende Künstlerin Joan Noble setzt sich als Tochter der Holocaust-Überlebenden Lieselotte Katz in ihren Collagen und Kunstwerken mit der Familiengeschichte auseinander. \nVilla Erckens Museum der Niederrheinischen Seele\, 11.00 Uhr \nMontag // 8. November 2021\nKranzniederlegung auf dem Jüdischen Friedhof Hemmerden\nGemeinsam mit dem Bürgermeister der Stadt Grevenbroich \n  \nDienstag // 9. November 2021\nGedenkstunde Novemberpogrom Synagogenplatz \nKooperation mit „KKG gegen das Vergessen“ \nSynagogenplatz\, 18.00 Uhr\, anschließend Marsch zum jüdischen\nFriedhof Stadtmitte an der Montanusstraße \nBitte beachten Sie auch die Ankündigungen in der Presse sowie unter\nwww.facebook.com/judentum.grevenbroich / www.judentum-grevenbroich.de \n Leider konnten die Nachfahren der Familie Katz aus Pandemie-Gründen nicht nach Grevenbroich kommen. Wir hoffen\, die Nachfahren aus Großbritannien\, den USA und Israel in 2022 bei uns willkommen zu heißen! \n
URL:http://s139425345.online.de/veranstaltungen/gedenk-und-begegnungswoche-nachfahren-katz-familie
ATTACH;FMTTYPE=image/jpeg:http://s139425345.online.de/wp-content/uploads/2020/11/Kavallerist-Alex-Katz-WW1.jpg
END:VEVENT
END:VCALENDAR