BEGIN:VCALENDAR
VERSION:2.0
PRODID:-//Geschichtsverein Grevenbroich - ECPv5.0.3.1//NONSGML v1.0//EN
CALSCALE:GREGORIAN
METHOD:PUBLISH
X-WR-CALNAME:Geschichtsverein Grevenbroich
X-ORIGINAL-URL:http://s139425345.online.de
X-WR-CALDESC:Veranstaltungen im Geschichtsverein Grevenbroich
BEGIN:VTIMEZONE
TZID:Europe/Berlin
BEGIN:DAYLIGHT
TZOFFSETFROM:+0100
TZOFFSETTO:+0200
TZNAME:CEST
DTSTART:20260329T010000
END:DAYLIGHT
BEGIN:STANDARD
TZOFFSETFROM:+0200
TZOFFSETTO:+0100
TZNAME:CET
DTSTART:20261025T010000
END:STANDARD
END:VTIMEZONE
BEGIN:VEVENT
DTSTART;TZID=Europe/Berlin:20260922T180000
DTEND;TZID=Europe/Berlin:20260922T203000
DTSTAMP:20260419T192517
CREATED:20260227T122746Z
LAST-MODIFIED:20260227T130255Z
UID:4607-1790100000-1790109000@s139425345.online.de
SUMMARY:Geschichts-Feierabend-Fahrradtour durch das alte "Amt" Wevelinghoven\, Tüschenbroich  und Langwaden!
DESCRIPTION:Gemeinsame Geschichts-Feierabend-Radtour von Geschichtsverein Grevenbroich und ADFC Ortsgruppe Grevenbroich. \nCornelia Schulte/MA und Achim Kühnel begleitet die Radfahrer auf den Spuren des alten “Amtes” Wevelinghoven\, Tüschenbroich und Langwaden… \n  \n  \n
URL:http://s139425345.online.de/veranstaltungen/geschichts-feierabend-fahrradtour-durch-das-alte-amt-wevelinghoven-tueschenbroich-und-langwaden
LOCATION:Treffpunkt Villa Erckens\, Am Stadtpark\, Grevenbroich\, 41515
ATTACH;FMTTYPE=image/jpeg:http://s139425345.online.de/wp-content/uploads/2026/02/Wevelinghoven.jpg
END:VEVENT
END:VCALENDAR