BEGIN:VCALENDAR
VERSION:2.0
PRODID:-//Geschichtsverein Grevenbroich - ECPv5.0.3.1//NONSGML v1.0//EN
CALSCALE:GREGORIAN
METHOD:PUBLISH
X-WR-CALNAME:Geschichtsverein Grevenbroich
X-ORIGINAL-URL:http://s139425345.online.de
X-WR-CALDESC:Veranstaltungen im Geschichtsverein Grevenbroich
BEGIN:VTIMEZONE
TZID:UTC
BEGIN:STANDARD
TZOFFSETFROM:+0000
TZOFFSETTO:+0000
TZNAME:UTC
DTSTART:20190101T000000
END:STANDARD
END:VTIMEZONE
BEGIN:VEVENT
DTSTART;TZID=UTC:20191010T200000
DTEND;TZID=UTC:20191010T213000
DTSTAMP:20260419T185815
CREATED:20190404T131350Z
LAST-MODIFIED:20190404T131350Z
UID:251-1570737600-1570743000@s139425345.online.de
SUMMARY:Gustorf/Gindorf und die Braunkohle
DESCRIPTION:Referent Dr. Peter Zenker \n \n
URL:http://s139425345.online.de/veranstaltungen/gustorf-gindorf-und-die-braunkohle
LOCATION:Museum Villa Erckens\, Am Stadtpark\, Grevenbroich\, NRW\, 41515
END:VEVENT
END:VCALENDAR