BEGIN:VCALENDAR
VERSION:2.0
PRODID:-//Geschichtsverein Grevenbroich - ECPv5.0.3.1//NONSGML v1.0//EN
CALSCALE:GREGORIAN
METHOD:PUBLISH
X-WR-CALNAME:Geschichtsverein Grevenbroich
X-ORIGINAL-URL:http://s139425345.online.de
X-WR-CALDESC:Veranstaltungen im Geschichtsverein Grevenbroich
BEGIN:VTIMEZONE
TZID:Europe/Berlin
BEGIN:DAYLIGHT
TZOFFSETFROM:+0100
TZOFFSETTO:+0200
TZNAME:CEST
DTSTART:20230326T010000
END:DAYLIGHT
BEGIN:STANDARD
TZOFFSETFROM:+0200
TZOFFSETTO:+0100
TZNAME:CET
DTSTART:20231029T010000
END:STANDARD
END:VTIMEZONE
BEGIN:VEVENT
DTSTART;TZID=Europe/Berlin:20230910T140000
DTEND;TZID=Europe/Berlin:20230910T150000
DTSTAMP:20260419T205810
CREATED:20230907T114135Z
LAST-MODIFIED:20230907T114135Z
UID:3020-1694354400-1694358000@s139425345.online.de
SUMMARY:Jüdischer Friedhof Grevenbroich - Führung Tag des Offenen Denkmals
DESCRIPTION:Die Friedhofskultur des jüdischen Friedhofs Grevenbroich spiegelt wie überall immer auch den gesellschaftlichen Wandel wieder. So war die Begräbniskultur geprägt von der Emanzipation der jüdischen Gemeinschaft Grevenbroichs im 19. und zu Beginn des 20. Jahrhunderts. Selbst Antisemitismus bis hin zum Holocaust haben – zwar nicht immer auf den ersten Blick\, aber deutlich zu erkennen – Spuren auf dem Friedhof hinterlassen… \nÜberhaupt ist der jüdische Friedhof Mahnung und Verpflichtung\, sich der deutsch-jüdischen Geschichte in allen Facetten zu stellen. Nur dem mutigen und beherzten Handeln des Grevenbroicher Steinmetzes Michael Geuer ist es zu verdanken\, dass der Friedhof überhaupt noch existiert… \nAll das und mehr erwartet Sie am Tag des Offenen Denkmals. Männliche Teilnehmer werden gebeten\, eine Kopfbedeckung zu tragen. \nTreffpunkt Führung \n14.00 Uhr\,  Jüdischer Friedhof Stadtmitte\, Eingang Ende des Jakob-Dickers-Weg\, 41515 Grevenbroich-Stadtmitte\n \nDer Friedhof hat auch einen eigenen  social media Auftritt: \nwww.facebook.com/juedischer.friedhof.grevenbroich \nErleben Sie auch den digitalen Biparcours zum Jüdischen Friedhof in Grevenbroich. \nhttps://biparcours.de/bound/juedischer-friedhof-grevenbroich \n  \n
URL:http://s139425345.online.de/veranstaltungen/juedischer-friedhof-grevenbroich-fuehrung-tag-des-offenen-denkmals
LOCATION:Jüdischer Friedhof Grevenbroich\, Jakob-Dickers-Weg 12\, Grevenbroich\, NRW\, 41515\, Deutschland
ORGANIZER;CN="AK%20Judentum":MAILTO:info@judentum-grevenbroich.de
END:VEVENT
END:VCALENDAR