BEGIN:VCALENDAR
VERSION:2.0
PRODID:-//Geschichtsverein Grevenbroich - ECPv5.0.3.1//NONSGML v1.0//EN
CALSCALE:GREGORIAN
METHOD:PUBLISH
X-WR-CALNAME:Geschichtsverein Grevenbroich
X-ORIGINAL-URL:http://s139425345.online.de
X-WR-CALDESC:Veranstaltungen im Geschichtsverein Grevenbroich
BEGIN:VTIMEZONE
TZID:Europe/Berlin
BEGIN:DAYLIGHT
TZOFFSETFROM:+0100
TZOFFSETTO:+0200
TZNAME:CEST
DTSTART:20250330T010000
END:DAYLIGHT
BEGIN:STANDARD
TZOFFSETFROM:+0200
TZOFFSETTO:+0100
TZNAME:CET
DTSTART:20251026T010000
END:STANDARD
END:VTIMEZONE
BEGIN:VEVENT
DTSTART;TZID=Europe/Berlin:20250413T123000
DTEND;TZID=Europe/Berlin:20250413T140000
DTSTAMP:20260420T070258
CREATED:20250315T105357Z
LAST-MODIFIED:20250315T105357Z
UID:4224-1744547400-1744552800@s139425345.online.de
SUMMARY:Krieg kennt keine Gewinner!
DESCRIPTION:Als Begleitprogram zur Ausstellung “Krieg kennt keine Gewinner! 80 Jahre Kriegsende in Grevenbroich” führen wir zusammen mit dem Verein Luftschutzanlagen im Rhein Kreis Neuss e. V. eine kleine Fahrradtour zu den Kriegsrelikten in Grevenbroich durch. \nWir empfehlen eine Anmeldung unter: https://www.luftschutzanlagen-rhein-kreis-neuss.de/kontakt/ \n
URL:http://s139425345.online.de/veranstaltungen/krieg-kennt-keine-gewinner-5
LOCATION:Museum Villa Erckens\, Am Stadtpark\, Grevenbroich\, NRW\, 41515
ATTACH;FMTTYPE=image/jpeg:http://s139425345.online.de/wp-content/uploads/2025/03/0_Fahrradtour_Krieg-kennt-keine-Gewinner-1-scaled.jpg
END:VEVENT
END:VCALENDAR