BEGIN:VCALENDAR
VERSION:2.0
PRODID:-//Geschichtsverein Grevenbroich - ECPv5.0.3.1//NONSGML v1.0//EN
CALSCALE:GREGORIAN
METHOD:PUBLISH
X-WR-CALNAME:Geschichtsverein Grevenbroich
X-ORIGINAL-URL:http://s139425345.online.de
X-WR-CALDESC:Veranstaltungen im Geschichtsverein Grevenbroich
BEGIN:VTIMEZONE
TZID:Europe/Berlin
BEGIN:DAYLIGHT
TZOFFSETFROM:+0100
TZOFFSETTO:+0200
TZNAME:CEST
DTSTART:20240331T010000
END:DAYLIGHT
BEGIN:STANDARD
TZOFFSETFROM:+0200
TZOFFSETTO:+0100
TZNAME:CET
DTSTART:20241027T010000
END:STANDARD
END:VTIMEZONE
BEGIN:VEVENT
DTSTART;TZID=Europe/Berlin:20240516T190000
DTEND;TZID=Europe/Berlin:20240516T210000
DTSTAMP:20260420T165453
CREATED:20240427T115110Z
LAST-MODIFIED:20240427T115110Z
UID:3641-1715886000-1715893200@s139425345.online.de
SUMMARY:Lesung aus dem Tagebuch der Liesel Katz - mit der Schauspielerin Katja Heinrich
DESCRIPTION:Die Schauspielerin Katja Heinrich liest aus dem Tagebuch der Liesel Katz aus Grevenbroich.\n \nLiesel Katz erhielt zu ihrem 16. Geburtstag Anfang Januar 1933 ein Tagebuch geschenkt. Darin trug sie ihre Gedanken zusammen\, Schule\, Ferien\, Kino\, Karneval und ihre ersten Schwärmereien und Liebeleien mit “Carlos”…\n…in dem Tagebuch finden sich aber auch zunehmend verstörende Einträge über die neuen Machthaber im Deutschen Reich\, den Nationalsozialisten. Nachdem Hitler Reichskanzler geworden war\, ergriffen sie auch in Grevenbroich die Macht.\nLiesel und ihre Familie musste aufgrund der Radikalisierung und des zunehmenden Antisemitismus darunter leiden. Die Verfolgung kumulierte in einem brutalen Raubüberfall\, als nur Liesel\, ihr Bruder Walter und der jüdische Jugendbund zuhause waren. 6 SA-Männer überfielen Mitte März 1933 das Haus Katz und raubten Wertgegenstände\, Geld und den Safe.\nDie Eltern\, die an diesem Abend nicht zuhause waren\, lobten eine Belohnung aus und erstatteten Strafanzeige. Es folgte ein Schmierentheater\, in der die SA zunächst die Tat leugnete\, später dann Druck auf die Familie ausübte\, in einer Gegenüberstellung mit Liesel die Täter doch zu verleugnen…\nDiese Ereignisse festigten den Entschluss sowohl von Walter als auch Liesel\, zu emigrieren – Walter 1937 nach Süd-Afrika\, Liesel Anfang 1938 nach Palästina.\nDie Lesung der aus dem Fernsehen bekannten Schauspielerin Katja Heinrich erfolgt als Begleitvortrag zur derzeitigen Schüler-Ausstellung “…nach Palästina\, weil ich als Jüdin in Deutschland keine Chance habe!” in Koopertation mit dem Pascal-Gymnasium.\nDie Ausstellung läuft noch bis Ende Mai\, der Vortrag ist am 16. Mai 2024 ab 19.00 Uhr in der Villa Erckens.\n
URL:http://s139425345.online.de/veranstaltungen/lesung-aus-dem-tagebuch-der-liesel-katz-mit-der-schauspielerin-katja-heinrich
LOCATION:Museum Villa Erckens\, Am Stadtpark\, Grevenbroich\, NRW\, 41515
ATTACH;FMTTYPE=image/jpeg:http://s139425345.online.de/wp-content/uploads/2024/04/Originalseiten-diary-17-scaled.jpg
END:VEVENT
END:VCALENDAR