BEGIN:VCALENDAR
VERSION:2.0
PRODID:-//Geschichtsverein Grevenbroich - ECPv5.0.3.1//NONSGML v1.0//EN
CALSCALE:GREGORIAN
METHOD:PUBLISH
X-WR-CALNAME:Geschichtsverein Grevenbroich
X-ORIGINAL-URL:http://s139425345.online.de
X-WR-CALDESC:Veranstaltungen im Geschichtsverein Grevenbroich
BEGIN:VTIMEZONE
TZID:Europe/Berlin
BEGIN:DAYLIGHT
TZOFFSETFROM:+0100
TZOFFSETTO:+0200
TZNAME:CEST
DTSTART:20240331T010000
END:DAYLIGHT
BEGIN:STANDARD
TZOFFSETFROM:+0200
TZOFFSETTO:+0100
TZNAME:CET
DTSTART:20241027T010000
END:STANDARD
END:VTIMEZONE
BEGIN:VEVENT
DTSTART;TZID=Europe/Berlin:20240411T190000
DTEND;TZID=Europe/Berlin:20240411T203000
DTSTAMP:20260420T145745
CREATED:20240408T073900Z
LAST-MODIFIED:20240408T073900Z
UID:3607-1712862000-1712867400@s139425345.online.de
SUMMARY:Liesel Katz - eine jüdische Emigrantengeschichte
DESCRIPTION:Liesel Katz floh aus Grevenbroich mit gerade einmal 18 Jahren aus Grevenbroich\, da sie Jüdin war. Zuvor erlebten sie und ihre Familie seit Januar 1933 Boykotte\, Ausgrenzung und Verfolgung bis hin zu einen brutalen Raubüberfall. \nIn Palästina fand sie eine neue Heimat! \nEin ausstellungsbegleitender Vortrag zur Ausstellung „nach Palästina\, weil ich als Jüdin in Deutschland keine Zukunft habe“ in der Villa Erckens. \n \nReferent Ulrich Herlitz\, Vorsitzender des Geschichtsvereins Grevenbroich.\nAls Gäste werden ihr Großcousin Ron Cohen mit seiner Frau Patti Hill aus den USA anwesend sein. \nEintritt: 4\,00 Euro \nFotos Familienbesitz Katz/Collagen Joan Noble\, Tochter von Liesel Katz \n
URL:http://s139425345.online.de/veranstaltungen/liesel-katz-eine-juedische-emigrantengeschichte
LOCATION:Museum Villa Erckens\, Am Stadtpark\, Grevenbroich\, NRW\, 41515
ATTACH;FMTTYPE=image/jpeg:http://s139425345.online.de/wp-content/uploads/2024/04/IMG_8388.jpeg
END:VEVENT
END:VCALENDAR