BEGIN:VCALENDAR
VERSION:2.0
PRODID:-//Geschichtsverein Grevenbroich - ECPv5.0.3.1//NONSGML v1.0//EN
CALSCALE:GREGORIAN
METHOD:PUBLISH
X-WR-CALNAME:Geschichtsverein Grevenbroich
X-ORIGINAL-URL:http://s139425345.online.de
X-WR-CALDESC:Veranstaltungen im Geschichtsverein Grevenbroich
BEGIN:VTIMEZONE
TZID:Europe/Berlin
BEGIN:DAYLIGHT
TZOFFSETFROM:+0100
TZOFFSETTO:+0200
TZNAME:CEST
DTSTART:20240331T010000
END:DAYLIGHT
BEGIN:STANDARD
TZOFFSETFROM:+0200
TZOFFSETTO:+0100
TZNAME:CET
DTSTART:20241027T010000
END:STANDARD
END:VTIMEZONE
BEGIN:VEVENT
DTSTART;TZID=Europe/Berlin:20241210T173000
DTEND;TZID=Europe/Berlin:20241210T193000
DTSTAMP:20260420T211736
CREATED:20241116T121222Z
LAST-MODIFIED:20241116T121642Z
UID:4058-1733851800-1733859000@s139425345.online.de
SUMMARY:„Nach unbekannt verzogen“ – Deportation 11. Dezember 1941 nach Riga
DESCRIPTION:Nachfahren der 1998 verstorbenen Hemmerdener Holocaustüberlebenden Marianne Stern-Winter besuchten gemeinsam mit Geschichtsvereinsvorsitzendem Ulrich Herlitz mit im Jahr 2029 Täter- und Erinnerungsorte in Riga und Stutthof. \n \nMarianne Stern wurde wie ihre Familie\, viele Verwandten und viele weitere Juden aus dem heutigen Stadtgebiet am 11. Dezember 1941 nach Riga deportiert. \nSammelpunkt war der Düsseldorfer Schlachthof\, auf dem sie die Nacht zuvor verbringen mussten. \n\nHeute ist der Alte Schlachthof Teil der Hochschule Düsseldorf und zugleich ein Erinnerungsort. \nGemeinsam mit den Nachfahren sind Biographien der Hemmerdener Juden in der Datenbank des Erinnerungsortes entwickelt und aufgenommen worden. \nSeit 2022 ist die Stadt auf Anregung des Geschichtsvereins Mitglied des Riga-Komitees\, das sich mit dem Volksbund Deutscher Kriegsgräberstätten auch um die Holocaust-Gedenkstätten in Riga kümmert. \nProjektschülerinnen und Schüler von “KKG gegen das Vergessen” begleiten die Veranstaltung. \nReferent: Joachim Schröder/Leiter Erinnerungsort \nTreffpunkt: Erinnerungsort Alter Schlachthof Düsseldorf\, Münsterstraße 156\, 40476 Düsseldorf. Treffpunkt 17.30 Uhr vor dem Gebäude – eigene An- und Abreise \nwww.marianne-winter.de   \n
URL:http://s139425345.online.de/veranstaltungen/nach-unbekannt-verzogen-deportation-11-dezember-1941-nach-riga
LOCATION:Erinnerungsort Alter Schlachthof Düsseldorf\, Münsterstraße 156\, Düsseldorf\, NRW\, 40476\, Germany
ATTACH;FMTTYPE=image/jpeg:http://s139425345.online.de/wp-content/uploads/2024/11/2018-11.10.-Erinnerungsort-Gleis-Toulouser-Allee-Alter-Schalchthof-40-scaled.jpg
END:VEVENT
END:VCALENDAR