BEGIN:VCALENDAR
VERSION:2.0
PRODID:-//Geschichtsverein Grevenbroich - ECPv5.0.3.1//NONSGML v1.0//EN
CALSCALE:GREGORIAN
METHOD:PUBLISH
X-WR-CALNAME:Geschichtsverein Grevenbroich
X-ORIGINAL-URL:http://s139425345.online.de
X-WR-CALDESC:Veranstaltungen im Geschichtsverein Grevenbroich
BEGIN:VTIMEZONE
TZID:Europe/Berlin
BEGIN:DAYLIGHT
TZOFFSETFROM:+0100
TZOFFSETTO:+0200
TZNAME:CEST
DTSTART:20250330T010000
END:DAYLIGHT
BEGIN:STANDARD
TZOFFSETFROM:+0200
TZOFFSETTO:+0100
TZNAME:CET
DTSTART:20251026T010000
END:STANDARD
END:VTIMEZONE
BEGIN:VEVENT
DTSTART;TZID=Europe/Berlin:20250525T113000
DTEND;TZID=Europe/Berlin:20250525T130000
DTSTAMP:20260419T225812
CREATED:20250524T080254Z
LAST-MODIFIED:20250524T080255Z
UID:4307-1748172600-1748178000@s139425345.online.de
SUMMARY:„Ne kölsche Jong“ - 125. Todestag Jakob Goldstein Jüdischer Elementarlehrer & Roter Funke
DESCRIPTION:Jakob Goldstein war über Jahrzehnte jüdischer Lehrer in Grevenbroich\, Mitgründer Mitglied im Vorstand der jüdischen Lehrerkonferenz Krefeld und dem späteren Verband der israelitischen Lehrer für Rheinland und Westfalen. \nVor allem war er aber auch ein lebensfroher Mensch und Mitglied bei den Kölner Roten Funken. Im Mai jährt sich sein 125. Todestag und wir wollen vom Geschichtsverein in einer heiter-besinnlichen Gedenkstunde Jakob Goldstein auf dem jüdischen Friedhof an seinem Grab würdigen. \nÜbrigens war Jakob Goldstein nicht der einziges jüdische Karnevalist aus Grevenbroich. Moses Löwenthal aus Gustorf war lange Jahre auch im Vorstand des Närrischen Sprötztrupp aktiv und ebenfalls leidenschaftlicher Karnevalist… \nTreffpunkt Jüdischer Friedhof an der Montanusstraße\n41515 Grevenbroich Stadtmitte\nSonntag\, 25. Mai 2025\, ab 11.30 Uhr \nMännliche Teilnehmer werden gebeten\, einen Kopfbedeckung zu tragen. \n
URL:http://s139425345.online.de/veranstaltungen/ne-koelsche-jong-125-todestag-jakob-goldstein-juedischer-elementarlehrer-roter-funke
LOCATION:Jüdischer Friedhof Grevenbroich\, Jakob-Dickers-Weg 12\, Grevenbroich\, NRW\, 41515\, Deutschland
ATTACH;FMTTYPE=image/png:http://s139425345.online.de/wp-content/uploads/2025/05/Goldstein-Rote-Funke.png
END:VEVENT
END:VCALENDAR