BEGIN:VCALENDAR
VERSION:2.0
PRODID:-//Geschichtsverein Grevenbroich - ECPv5.0.3.1//NONSGML v1.0//EN
CALSCALE:GREGORIAN
METHOD:PUBLISH
X-WR-CALNAME:Geschichtsverein Grevenbroich
X-ORIGINAL-URL:http://s139425345.online.de
X-WR-CALDESC:Veranstaltungen im Geschichtsverein Grevenbroich
BEGIN:VTIMEZONE
TZID:Europe/Berlin
BEGIN:DAYLIGHT
TZOFFSETFROM:+0100
TZOFFSETTO:+0200
TZNAME:CEST
DTSTART:20230326T010000
END:DAYLIGHT
BEGIN:STANDARD
TZOFFSETFROM:+0200
TZOFFSETTO:+0100
TZNAME:CET
DTSTART:20231029T010000
END:STANDARD
END:VTIMEZONE
BEGIN:VEVENT
DTSTART;TZID=Europe/Berlin:20231214T190000
DTEND;TZID=Europe/Berlin:20231214T210000
DTSTAMP:20260420T070345
CREATED:20231212T123821Z
LAST-MODIFIED:20231212T124806Z
UID:3279-1702580400-1702587600@s139425345.online.de
SUMMARY:„Nur wo du zu Fuß warst\, bist du auch wirklich gewesen“ - Fritz Hollwegs Erfahrungen auf dem Camino
DESCRIPTION:„Nur wo du zu Fuß warst\, bist du auch wirklich gewesen.“\nJohann Wolfgang von Goethe\, deutscher Dichter\, 1749 – 1832 \nErfahrungen auf dem Camino\, dem Jakobsweg \nEr war dann mal weg… Friedrich Carl “Fritz” Hollweg\, der seinerzeitige geschäftsführende Gesellschafter der damals gerade nach Kapellen gezogenen Firma GOTTSCHALL & SOHN KG nahm sich 2008 eine berufliche Auszeit über mehrere Woche und folgte 818 Kilometer als Pilger zu Fuß dem Camino\, dem Jakobsweg. Was er als evangelischer Christ auf einem Jahrhunderte alten Pilgerweg erfuhr\, Ober dein Ziel erreichte und ob er heute noch davon zehrt – das teilt Fritz Hollweg uns in seinem Bildvortrag mit… \nMuseum Villa Erckens\, 19.00 Uhr \nReferent: Friedrich Carl (Fritz) Hollweg \n\n\n\n\n\n \n\n\n\n\n\n
URL:http://s139425345.online.de/veranstaltungen/nur-wo-du-zu-fuss-warst-bist-du-auch-wirklich-gewesen-fritz-hollwegs-erfahrungen-auf-dem-camino
LOCATION:Museum Villa Erckens\, Am Stadtpark\, Grevenbroich\, NRW\, 41515
ATTACH;FMTTYPE=image/jpeg:http://s139425345.online.de/wp-content/uploads/2023/12/IMG_6336-e1702385417139.jpeg
END:VEVENT
END:VCALENDAR