BEGIN:VCALENDAR
VERSION:2.0
PRODID:-//Geschichtsverein Grevenbroich - ECPv5.0.3.1//NONSGML v1.0//EN
CALSCALE:GREGORIAN
METHOD:PUBLISH
X-WR-CALNAME:Geschichtsverein Grevenbroich
X-ORIGINAL-URL:http://s139425345.online.de
X-WR-CALDESC:Veranstaltungen im Geschichtsverein Grevenbroich
BEGIN:VTIMEZONE
TZID:UTC
BEGIN:STANDARD
TZOFFSETFROM:+0000
TZOFFSETTO:+0000
TZNAME:UTC
DTSTART:20210101T000000
END:STANDARD
END:VTIMEZONE
BEGIN:VEVENT
DTSTART;TZID=UTC:20211105T180000
DTEND;TZID=UTC:20211105T200000
DTSTAMP:20260419T192517
CREATED:20211106T115900Z
LAST-MODIFIED:20211106T115900Z
UID:1660-1636135200-1636142400@s139425345.online.de
SUMMARY:Stolpersteinführung Bahnhofsviertel Familie Katz
DESCRIPTION:\n\n\n\n\nFührung am Freitag: Im Bahnhofsviertel wurde um 1900 die Familie von Abraham Katz auf der Bahnstraße 79 heimisch. Gemeinsam mit seiner Frau hatte er vier Söhne und vier Töchter. Die Söhne waren wie ihr Vater im Viehhandelsgeschäft\, die Tochter Johanna war in den Christen Adolf Rings verliebt und lebte mit ihm auf der Orkenerstraße 27. Am Ende der Straße wohnte auch Alex Katz mit seiner Ehefrau Elfriede geb. Voss und den beiden Kindern Walter und Lieselotte. Während die Kinder 1937/38 emigrieren konnten\, blieben Alex und Elfriede in Grevenbroich. Nach dem Novemberpogrom der “Reichskristallnacht” mussten sie Grevenbroich verlassen und flohen über Köln nach Belgien und Frankreich. Von dort wurden sie am 2. September 1942 nach Auschwitz deportiert und dort ermordet. Johanna Rings geb. Katz überlebte – zuletzt versteckt und trotz aller Verfolgungen – in der “privilegierten Rassenmischehe” mit Adolf Rings\, der sich immer zu ihr bekannte. Anhand der Stolpersteine im Bahnhofsviertel geht Ulrich\, Vorsitzender des Geschichtsverein Grevenbroich\, am Freitag der Familienbiographie der Katz-Familie nach! Treffpunkt 18.00 Uhr am Platz der Deutschen Einheit; Dauer ca 1\,5 h.\n\n\n\n\n\n\n\n\n\n\n\n\n     \n \n\n\n\n\n\n     \n\n\n\n\n \n\n \n\n\n\n\n\n\n\n
URL:http://s139425345.online.de/veranstaltungen/stolpersteinfuehrung-bahnhofsviertel-familie-katz-2
LOCATION:Platz der Deutschen Einheit\, Platz der Deutschen Einheit\, Grevenbroich\, NRW\, 41515\, Deutschland
ATTACH;FMTTYPE=image/jpeg:http://s139425345.online.de/wp-content/uploads/2021/11/Stolpersteine-007-scaled.jpg
ORGANIZER;CN="AK%20Judentum":MAILTO:info@judentum-grevenbroich.de
END:VEVENT
END:VCALENDAR