BEGIN:VCALENDAR
VERSION:2.0
PRODID:-//Geschichtsverein Grevenbroich - ECPv5.0.3.1//NONSGML v1.0//EN
CALSCALE:GREGORIAN
METHOD:PUBLISH
X-WR-CALNAME:Geschichtsverein Grevenbroich
X-ORIGINAL-URL:http://s139425345.online.de
X-WR-CALDESC:Veranstaltungen im Geschichtsverein Grevenbroich
BEGIN:VTIMEZONE
TZID:Europe/Berlin
BEGIN:DAYLIGHT
TZOFFSETFROM:+0100
TZOFFSETTO:+0200
TZNAME:CEST
DTSTART:20250330T010000
END:DAYLIGHT
BEGIN:STANDARD
TZOFFSETFROM:+0200
TZOFFSETTO:+0100
TZNAME:CET
DTSTART:20251026T010000
END:STANDARD
END:VTIMEZONE
BEGIN:VEVENT
DTSTART;TZID=Europe/Berlin:20250506T180000
DTEND;TZID=Europe/Berlin:20250506T210000
DTSTAMP:20260420T033912
CREATED:20250430T104339Z
LAST-MODIFIED:20250430T110253Z
UID:4234-1746554400-1746565200@s139425345.online.de
SUMMARY:„Vier-Burgen-Tour“ Wevelinghoven
DESCRIPTION:“Vier-Burgen-Tour” Wevelinghoven \nGeschichts-Feierabend-Radtour mit dem ADFC \nWevelinghoven als langgestrecktes Straßendorf bestand bereits in der Römerzeit vor rd. 2.000 Jahren. Im Mittelalter entwickelten sich hier gleich unabhängige Herrschaften mit jeweils eigenen Burgen. Hinzu kam die Wasserburg-Anlage “Haus Busch”. \n\nAuf rd. 15 Kilometern Tour (Stadtpark\, Motte Motte am Zubend\, Kath. Kirche St. Martinus\, Haus Busch) “erfahren” wir alles über das Schicksal  dieser Burgen in einer Zeitreise in die mittelalterliche Geschichte von  Wevelinghoven. \nReferent Geschichtsverein: Achim Kühnel\nTourenleitung: ADFC Wolfgang Paul\n\n \nTreffpunkt: 18.00 Uhr Museum Villa Erckens\n \n\nTeilnehmeranmeldung erbeten unter\n0157-86382434\n\n
URL:http://s139425345.online.de/veranstaltungen/vier-burgen-tour-wevelinghoven
LOCATION:Museum Villa Erckens\, Am Stadtpark\, Grevenbroich\, NRW\, 41515
END:VEVENT
END:VCALENDAR