BEGIN:VCALENDAR
VERSION:2.0
PRODID:-//Geschichtsverein Grevenbroich - ECPv5.0.3.1//NONSGML v1.0//EN
CALSCALE:GREGORIAN
METHOD:PUBLISH
X-WR-CALNAME:Geschichtsverein Grevenbroich
X-ORIGINAL-URL:http://s139425345.online.de
X-WR-CALDESC:Veranstaltungen im Geschichtsverein Grevenbroich
BEGIN:VTIMEZONE
TZID:Europe/Berlin
BEGIN:DAYLIGHT
TZOFFSETFROM:+0100
TZOFFSETTO:+0200
TZNAME:CEST
DTSTART:20230326T010000
END:DAYLIGHT
BEGIN:STANDARD
TZOFFSETFROM:+0200
TZOFFSETTO:+0100
TZNAME:CET
DTSTART:20231029T010000
END:STANDARD
END:VTIMEZONE
BEGIN:VEVENT
DTSTART;TZID=Europe/Berlin:20230910T110000
DTEND;TZID=Europe/Berlin:20230910T120000
DTSTAMP:20260419T192421
CREATED:20230901T183351Z
LAST-MODIFIED:20230907T114734Z
UID:3012-1694343600-1694347200@s139425345.online.de
SUMMARY:Wanderung zu den Relikten des Zweiten Weltkriegs
DESCRIPTION:Zum Tag des offenen Denkmals am 10. September 2023 veranstaltet der Geschichtsverein Grevenbroich in Kooperation mit dem Verein Luftschutzanlagen Rhein Kreis Neuss e.V. eine Wanderung zu verschiedenen Relikten aus der Zeit des Zweiten Weltkrieges in der Umgebung des Moerser Topfes in der Rosenstraße.\n \n\nDie Wanderung und die anschließende Begehung der Luftschutzanlage wird ungefähr eine Stunde dauern und am Moerser Topf beginnen und enden. Der Bunker befindet sich auf der Grünfläche in der Rosenstraße.\n\n\n \nBitte parken Sie aus Rücksicht auf die Anwohner auf der Richard-Wagner-Straße oder nutzen Sie öffentliche Verkehrsmittel für die Anreise.\n \n\n\nWir empfehlen eine Anmeldung unter https://www.luftschutzanlagen-rhein-kreis-neuss.de/kontakt/\n \n\n\nMehr Informationen über diesen besonderen Rundbunker sind auch auf folgender Homepage unter https://www.luftschutzanlagen-rhein-kreis-neuss.de/… zu finden.\n \n\n\n  \n  \n
URL:http://s139425345.online.de/veranstaltungen/wanderung-zu-den-relikten-des-zweiten-weltkriegs
LOCATION:Rosenstraße\, 41515 Grevenbroich\, Rosenstraße 501\, Grevenbroich\, 41515
ATTACH;FMTTYPE=image/jpeg:http://s139425345.online.de/wp-content/uploads/2023/09/IMG_9267_HD01.jpg
END:VEVENT
END:VCALENDAR